View In:
ArcGIS JavaScript
ArcGIS Online Map Viewer
ArcGIS Earth
ArcMap
View Footprint In:
ArcGIS Online Map Viewer
Service Description: Image service derived from the Hydrographic Surveys Mosaic dataset - 2022. Updated weekly with rasters from NOAA Fleet and contractor survey progress.
Name: Hydrographic_Services/HydrographicSurvey_ImageService_2022
Description: Image service derived from the Hydrographic Surveys Mosaic dataset - 2022. Updated weekly with rasters from NOAA Fleet and contractor survey progress.
Single Fused Map Cache: false
Extent:
XMin: -168.45745223699998
YMin: 12.695396988138832
XMax: 147.6721289281918
YMax: 60.73974629200006
Spatial Reference: 4326
(4326)
Initial Extent:
XMin: -168.45745223699998
YMin: 12.695396988138832
XMax: 147.6721289281918
YMax: 60.73974629200006
Spatial Reference: 4326
(4326)
Full Extent:
XMin: -168.45745223699998
YMin: 12.695396988138832
XMax: 147.6721289281918
YMax: 60.73974629200006
Spatial Reference: 4326
(4326)
Time Info:
Start Time Field: Date
End Time Field: Date
Time Extent:
[2021/11/20 00:00:00 UTC, 2023/01/17 00:00:00 UTC]
Time Reference:
N/A
Pixel Size X: 4.491576420597607E-6
Pixel Size Y: 4.491576420597607E-6
Band Count: 1
Pixel Type: F32
RasterFunction Infos: {"rasterFunctionInfos": [{
"name": "None",
"description": "A No-Op Function.",
"help": ""
}]}
Mensuration Capabilities: Basic
Has Histograms: true
Has Colormap: false
Has Multi Dimensions : false
Rendering Rule:
Min Scale: 0
Max Scale: 0
Copyright Text: Brian Mohr
Service Data Type: esriImageServiceDataTypeGeneric
Min Values: -1029.313720703125
Max Values: 2125.939208984375
Mean Values: 505.465511311767
Standard Deviation Values: 554.2547693169508
Object ID Field: OBJECTID
Fields:
-
OBJECTID
(
type: esriFieldTypeOID, alias: OBJECTID
)
-
Shape
(
type: esriFieldTypeGeometry, alias: Shape
)
-
Name
(
type: esriFieldTypeString, alias: Name, length: 200
)
-
MinPS
(
type: esriFieldTypeDouble, alias: MinPS
)
-
MaxPS
(
type: esriFieldTypeDouble, alias: MaxPS
)
-
LowPS
(
type: esriFieldTypeDouble, alias: LowPS
)
-
HighPS
(
type: esriFieldTypeDouble, alias: HighPS
)
-
Category
(
type: esriFieldTypeInteger, alias: Category
, Coded Values:
[0: Unknown]
, [1: Primary]
, [2: Overview]
, ...6 more...
)
-
Tag
(
type: esriFieldTypeString, alias: Tag, length: 100
)
-
GroupName
(
type: esriFieldTypeString, alias: GroupName, length: 100
)
-
ProductName
(
type: esriFieldTypeString, alias: ProductName, length: 100
)
-
CenterX
(
type: esriFieldTypeDouble, alias: CenterX
)
-
CenterY
(
type: esriFieldTypeDouble, alias: CenterY
)
-
ZOrder
(
type: esriFieldTypeInteger, alias: ZOrder
)
-
Shape_Length
(
type: esriFieldTypeDouble, alias: Shape_Length
)
-
Shape_Area
(
type: esriFieldTypeDouble, alias: Shape_Area
)
Default Mosaic Method: Northwest
Allowed Mosaic Methods: NorthWest,Center,LockRaster,ByAttribute,Nadir,Viewpoint,Seamline,None
SortField:
SortValue: null
Mosaic Operator: First
Default Compression Quality: 75
Default Resampling Method: Bilinear
Max Record Count: 1000
Max Image Height: 4100
Max Image Width: 15000
Max Download Image Count: 20
Max Mosaic Image Count: 20
Allow Raster Function: true
Allow Copy: null
Allow Analysis: null
Allow Compute TiePoints: false
Supports Statistics: true
Supports Advanced Queries: true
Use StandardizedQueries: true
Raster Type Infos:
Name: Raster Dataset
Description: Supports all ArcGIS Raster Datasets
Help:
Has Raster Attribute Table: false
Edit Fields Info: null
Ownership Based AccessControl For Rasters: null
Child Resources:
Info
Histograms
Key Properties
Legend
Raster Function Infos
Supported Operations:
Export Image
Query
Identify
Measure
Compute Histograms
Compute Statistics Histograms
Get Samples
Compute Class Statistics
Query Boundary
Compute Pixel Location
Compute Angles
Validate
Project